BEGIN:VCALENDAR
VERSION:2.0
PRODID:-//jEvents 2.0 for Joomla//EN
CALSCALE:GREGORIAN
METHOD:PUBLISH
BEGIN:VEVENT
UID:4b1e0d4fb233fb81dd4ac020af14361e
CATEGORIES:DEFAULT
SUMMARY:Diciannovesima lezione Certificate acquisition in advanced english (CAE)
LOCATION:Liceo Tenca - Bastioni di Porta Volta, 16 - Milano
DESCRIPTION;ENCODING=QUOTED-PRINTABLE:\n\nLearning takes a Lifetime I\n\n\nDiscussions on scholastic experiences,
  educational objectives, university choices.\n\n\nTeacher: Kenneth R. Brode
 y\n\n\n \n
DTSTAMP:20260424T161657Z
DTSTART:20170330T140000Z
DTEND:20170330T170000Z
SEQUENCE:0
TRANSP:OPAQUE
END:VEVENT
END:VCALENDAR