BEGIN:VCALENDAR
VERSION:2.0
PRODID:-//jEvents 2.0 for Joomla//EN
CALSCALE:GREGORIAN
METHOD:PUBLISH
BEGIN:VEVENT
UID:6edb6aed3ccb3e50d8bb2f4e5132240f
CATEGORIES:DEFAULT
SUMMARY:Ventesima lezione CERTIFICATE ACQUISITION IN ADVANCED ENGLISH (CAE)
LOCATION:Liceo Tenca - Bastioni di Porta Volta, 16 - Milano
DESCRIPTION;ENCODING=QUOTED-PRINTABLE:\n\nLearning Takes a Lifetime II\n\n\nGrammar: more modal verbs can, be abl
 e to, to have to, must etc. Opportunity and its vocabulary. Report writing.
  Future Perfect and the Future Perfect Continuous.\n\n\nTeacher: Kenneth R.
  Brodey\n
DTSTAMP:20260424T181336Z
DTSTART:20170406T140000Z
DTEND:20170406T170000Z
SEQUENCE:0
TRANSP:OPAQUE
END:VEVENT
END:VCALENDAR