BEGIN:VCALENDAR
VERSION:2.0
PRODID:-//jEvents 2.0 for Joomla//EN
CALSCALE:GREGORIAN
METHOD:PUBLISH
BEGIN:VEVENT
UID:438b4155c81cc05483a0289dccfeb230
CATEGORIES:DEFAULT
SUMMARY:IV incontro "LA CONTEMPORANEITA'" - Globalizzazione e processi transnazionali
DESCRIPTION;ENCODING=QUOTED-PRINTABLE:\n\nLa Contemporaneità\n\n\nIl quarto incontro si terrà Mercoledì 8/3/2017 
 dalle ore 16:00 alle ore 19:00 presso l'Istituto IIS Cremona, Viale Marche 
 71/73 Milano.\n\n\nArgomento: \n\n\nGLOBALIZZAZIONE E PROCESSI TRANSNAZIONA
 LI\n\n\nSimona Beretta, professore ordinario Dipartimento Economia Internaz
 ionale delle Istituzione e dello Sviluppo, Università Cattolica, Milano\n\n
 \nCoordinatore: Flavio Merlo, docente di diritto e economia, dirigente\n
DTSTAMP:20260424T161605Z
DTSTART:20170308T143000Z
DTEND:20170308T163000Z
SEQUENCE:0
TRANSP:OPAQUE
END:VEVENT
END:VCALENDAR