BEGIN:VCALENDAR
VERSION:2.0
PRODID:-//jEvents 2.0 for Joomla//EN
CALSCALE:GREGORIAN
METHOD:PUBLISH
BEGIN:VEVENT
UID:4747ef7cf06096a1a76928a667589681
CATEGORIES:DEFAULT
SUMMARY:V incontro "La Contemporaneità" - I Linguaggi della Contemporaneità in Arte e in Letteratura
LOCATION:IIS ZAPPA - Aula rossa
DESCRIPTION;ENCODING=QUOTED-PRINTABLE:V INCONTRO – Giovedì  16 marzo 2017 ore 16.00 - 19.00\n\nIIS Cremona - Vial
 e Marche, 71 - Milano\nI LINGUAGGI DELLA CONTEMPORANEITA’IN ARTE E LETTERAT
 URADavide Rondoni - Scrittore e poeta, fond. Centro di poesia contemporanea
 . Università di BolognaFrancesca Radaelli – Organizzazione culturale, fonda
 zione StellineCoordina Franco Camisasca - Docente di lettere 
DTSTAMP:20260424T143532Z
DTSTART:20170316T150000Z
DTEND:20170316T180000Z
SEQUENCE:0
TRANSP:OPAQUE
END:VEVENT
END:VCALENDAR