BEGIN:VCALENDAR
VERSION:2.0
PRODID:-//jEvents 2.0 for Joomla//EN
CALSCALE:GREGORIAN
METHOD:PUBLISH
BEGIN:VEVENT
UID:48c7df400e92d8b42dab3cd67a8bcfba
CATEGORIES:DEFAULT
SUMMARY:LA CONTEMPORANEITA' SESTO INCONTRO
DESCRIPTION;ENCODING=QUOTED-PRINTABLE:\n\nLa Contemporaneità\n\n\nIl sesto incontro si terrà Mercoledì 22/03/2017
  dalle ore 16:00 alle ore 19:00 presso l'Istituto IIS Cremona, Viale Marche
  71/73 Milano\n\n\nArgomenti:\n\n\nMONDO CLASSICO: PRESENZA O ESTRANEITA'?\
 n\n\nGuido Milanese, professore ordinario di letteratura latina, Università
  Cattolica, Milano e USI, Lugano\n\n\n \n\n\nDIALOGO FRA CULTURA UMANISTICA
  E SCIENTIFICA\n\n\nMarco Bersanelli, professore ordinario di Astronomia e 
 Astrofisica Università degli Studi, Milano\n\n\nCoordinatore: Paolo Lamagna
 , docente di lettere classiche\n
DTSTAMP:20260424T161548Z
DTSTART:20170322T150000Z
DTEND:20170322T180000Z
SEQUENCE:0
TRANSP:OPAQUE
END:VEVENT
END:VCALENDAR