BEGIN:VCALENDAR
VERSION:2.0
PRODID:-//jEvents 2.0 for Joomla//EN
CALSCALE:GREGORIAN
METHOD:PUBLISH
BEGIN:VEVENT
UID:e27891140b502f9fa0a8492b534b9f33
CATEGORIES:DEFAULT
SUMMARY:PRIMO INCONTRO 161939 ABC...IPAD
DESCRIPTION;ENCODING=QUOTED-PRINTABLE:\n\nDA IPAD AL TUO IPAD\n\n\nIL PRIMO INCONTRO DEL CORSO GENERAZIONE WEB 16
 1939 ABC...IPAD\n\n\nSI TERRA' IL GIORNO 10/01/2017 PRESSO L'ISTITUTO CIRES
 OLA, VIALE BRIANZA 18, MILANO\n\n\nDALLE ORE 14:30 ALLE ORE 17:30\n
DTSTAMP:20260424T161604Z
DTSTART:20170110T133000Z
DTEND:20170110T163000Z
SEQUENCE:0
TRANSP:OPAQUE
END:VEVENT
END:VCALENDAR