BEGIN:VCALENDAR
VERSION:2.0
PRODID:-//jEvents 2.0 for Joomla//EN
CALSCALE:GREGORIAN
METHOD:PUBLISH
BEGIN:VEVENT
UID:b36a9562f0170c9af98b76805f347925
CATEGORIES:DEFAULT
SUMMARY:SECONDO INCONTRO 161939 ABC...IPAD
DESCRIPTION;ENCODING=QUOTED-PRINTABLE:\n\nCOSTRUIRE CONTERNUTI E PRESENTARLI\n\n\nIL SECONDO INCONTRO DEL CORSO G
 ENERAZIONE WEB 161939 ABC...IPAD\n\n\nSI TERRA' IL GIORNO 24/01/2017 PRESSO
  L'ISTITUTO CIRESOLA, VIALE BRIANZA,18 MILANO\n\n\nDALLE ORE 14:30 ALLE ORE
  17:30\n
DTSTAMP:20260424T161655Z
DTSTART:20170124T133000Z
DTEND:20170124T163000Z
SEQUENCE:0
TRANSP:OPAQUE
END:VEVENT
END:VCALENDAR