BEGIN:VCALENDAR
VERSION:2.0
PRODID:-//jEvents 2.0 for Joomla//EN
CALSCALE:GREGORIAN
METHOD:PUBLISH
BEGIN:VEVENT
UID:e740cc209af22ff21d374a260566c008
CATEGORIES:DEFAULT
SUMMARY:II lezione "Avanzare nella didattica digitale" - ITSOS MARIE CURIE
LOCATION:ITSOS Marie Curie (Cernusco s/N)
DESCRIPTION;ENCODING=QUOTED-PRINTABLE:\n\nSeconda lezione lezione del corso di Generazione Web "Avanzare nella di
 dattica digitale" - presso ITSOS Marie Curie, via Masaccio 5, Cernusco Sul 
 Naviglio (MI)\n
DTSTAMP:20260424T152744Z
DTSTART:20170213T134500Z
DTEND:20170213T164500Z
SEQUENCE:0
TRANSP:OPAQUE
END:VEVENT
END:VCALENDAR