BEGIN:VCALENDAR
VERSION:2.0
PRODID:-//jEvents 2.0 for Joomla//EN
CALSCALE:GREGORIAN
METHOD:PUBLISH
BEGIN:VEVENT
UID:9deb4187b3122a4dcdc53e5e23002968
CATEGORIES:DEFAULT
SUMMARY:III lezione "Avanzare nella didattica digitale" - ITSOS MARIE CURIE
LOCATION:ITSOS Marie Curie (Cernusco s/N)
DESCRIPTION;ENCODING=QUOTED-PRINTABLE:\n\nTerza lezione del corso di Generazione Web "Avanzare nella didattica di
 gitale" - presso ITSOS Marie Curie, via Masaccio 5, Cernusco Sul Naviglio (
 MI)\n
DTSTAMP:20260424T161644Z
DTSTART:20170301T130000Z
DTEND:20170301T160000Z
SEQUENCE:0
TRANSP:OPAQUE
END:VEVENT
END:VCALENDAR