BEGIN:VCALENDAR
VERSION:2.0
PRODID:-//jEvents 2.0 for Joomla//EN
CALSCALE:GREGORIAN
METHOD:PUBLISH
BEGIN:VEVENT
UID:9a2ab287949b58e11b375b00b763d49c
CATEGORIES:DEFAULT
SUMMARY:IV lezione "Avanzare nella didattica digitale" - ITSOS MARIE CURIE
LOCATION:ITSOS Marie Curie (Cernusco s/N)
DESCRIPTION;ENCODING=QUOTED-PRINTABLE:\n\nQuarta lezione del corso di Generazione Web "Avanzare nella didattica d
 igitale" - presso ITSOS Marie Curie, via Masaccio 5, Cernusco Sul Naviglio 
 (MI)\n
DTSTAMP:20260424T161604Z
DTSTART:20170313T134500Z
DTEND:20170313T164500Z
SEQUENCE:0
TRANSP:OPAQUE
END:VEVENT
END:VCALENDAR