BEGIN:VCALENDAR
VERSION:2.0
PRODID:-//jEvents 2.0 for Joomla//EN
CALSCALE:GREGORIAN
METHOD:PUBLISH
BEGIN:VEVENT
UID:e358d69ef65068e5d30d82c1147bbe39
CATEGORIES:DEFAULT
SUMMARY:V lezione "Avanzare nella didattica digitale
LOCATION:ITSOS Marie Curie (Cernusco s/N)
DESCRIPTION;ENCODING=QUOTED-PRINTABLE:\n\nQuinta e ultima lezione del corso di Generazione Web "Avanzare nella di
 dattica digitale" - presso ITSOS Marie Curie, via Masaccio 5, Cernusco Sul 
 Naviglio (MI)\n
DTSTAMP:20260424T161605Z
DTSTART:20170324T134500Z
DTEND:20170324T164500Z
SEQUENCE:0
TRANSP:OPAQUE
END:VEVENT
END:VCALENDAR