BEGIN:VCALENDAR
VERSION:2.0
PRODID:-//jEvents 2.0 for Joomla//EN
CALSCALE:GREGORIAN
METHOD:PUBLISH
BEGIN:VEVENT
UID:a53b41b3402c50837463b32c8768c309
CATEGORIES:DEFAULT
SUMMARY:III lezione inglese A2 - Sede di Saronno
LOCATION:I.C. di Lomazzo (CO)
DESCRIPTION;ENCODING=QUOTED-PRINTABLE:\n\nTerza lezione del corso di inglese A2, continuazione del corso A1 concl
 usosi il 19 gennaio, presso l'I.C. di Lomazzo, via Pitagora, 22074, Lomazzo
  (CO).\n
DTSTAMP:20260424T160055Z
DTSTART:20170209T160000Z
DTEND:20170209T180000Z
SEQUENCE:0
TRANSP:OPAQUE
END:VEVENT
END:VCALENDAR