BEGIN:VCALENDAR
VERSION:2.0
PRODID:-//jEvents 2.0 for Joomla//EN
CALSCALE:GREGORIAN
METHOD:PUBLISH
BEGIN:VEVENT
UID:298d5dafa1347f6c66db2a8970f8175d
CATEGORIES:DEFAULT
SUMMARY: V lezione inglese A2 - Sede di Saronno
LOCATION:I.C. di Lomazzo (CO)
DESCRIPTION;ENCODING=QUOTED-PRINTABLE:\n\nQuinta lezione del corso di inglese A2, continuazione del corso A1 conc
 lusosi il 19 gennaio, presso l'I.C. di Lomazzo, via Pitagora, 22074, Lomazz
 o (CO).\n
DTSTAMP:20260424T160846Z
DTSTART:20170223T160000Z
DTEND:20170223T180000Z
SEQUENCE:0
TRANSP:OPAQUE
END:VEVENT
END:VCALENDAR