BEGIN:VCALENDAR
VERSION:2.0
PRODID:-//jEvents 2.0 for Joomla//EN
CALSCALE:GREGORIAN
METHOD:PUBLISH
BEGIN:VEVENT
UID:7368a1eb0626dad31f24778fe19e9082
CATEGORIES:DEFAULT
SUMMARY:VI lezione inglese A2 - Sede di Saronno
LOCATION:I.C. di Lomazzo (CO)
DESCRIPTION;ENCODING=QUOTED-PRINTABLE:\n\nSesta lezione del corso di inglese A2, continuazione del corso A1 concl
 usosi il 19 gennaio, presso l'I.C. di Lomazzo, via Pitagora, 22074, Lomazzo
  (CO).\n
DTSTAMP:20260424T161644Z
DTSTART:20170302T160000Z
DTEND:20170302T180000Z
SEQUENCE:0
TRANSP:OPAQUE
END:VEVENT
END:VCALENDAR