BEGIN:VCALENDAR
VERSION:2.0
PRODID:-//jEvents 2.0 for Joomla//EN
CALSCALE:GREGORIAN
METHOD:PUBLISH
BEGIN:VEVENT
UID:27e451487f4ec8f455015f44894b875b
CATEGORIES:DEFAULT
SUMMARY:VII Lezione inglese A2 - Sede di Saronno
LOCATION:I.C. di Lomazzo (CO)
DESCRIPTION;ENCODING=QUOTED-PRINTABLE:\n\nSettima lezione del corso di inglese A2, continuazione del corso A1 con
 clusosi il 19 gennaio, presso l'I.C. di Lomazzo, via Pitagora, 22074, Lomaz
 zo (CO).\n
DTSTAMP:20260424T161604Z
DTSTART:20170309T160000Z
DTEND:20170309T180000Z
SEQUENCE:0
TRANSP:OPAQUE
END:VEVENT
END:VCALENDAR