BEGIN:VCALENDAR
VERSION:2.0
PRODID:-//jEvents 2.0 for Joomla//EN
CALSCALE:GREGORIAN
METHOD:PUBLISH
BEGIN:VEVENT
UID:9972ce0a7ed376782396623198035862
CATEGORIES:DEFAULT
SUMMARY:VIII lezione inglese A2 - Sede di Saronno
LOCATION:I.C. di Lomazzo (CO)
DESCRIPTION;ENCODING=QUOTED-PRINTABLE:\n\nOttava lezione del corso di inglese A2, continuazione del corso A1 conc
 lusosi il 19 gennaio, presso l'I.C. di Lomazzo, via Pitagora, 22074, Lomazz
 o (CO).\n
DTSTAMP:20260424T143539Z
DTSTART:20170316T160000Z
DTEND:20170316T180000Z
SEQUENCE:0
TRANSP:OPAQUE
END:VEVENT
END:VCALENDAR