BEGIN:VCALENDAR
VERSION:2.0
PRODID:-//jEvents 2.0 for Joomla//EN
CALSCALE:GREGORIAN
METHOD:PUBLISH
BEGIN:VEVENT
UID:c19d43d2ebbb7d36aa20657d8a2c9e16
CATEGORIES:DEFAULT
SUMMARY:IX lezione inglese A2 - Sede di Saronno
LOCATION:I.C. di Lomazzo (CO)
DESCRIPTION;ENCODING=QUOTED-PRINTABLE:\n\nNona lezione del corso di inglese A2, continuazione del corso A1 conclu
 sosi il 19 gennaio, presso l'I.C. di Lomazzo, via Pitagora, 22074, Lomazzo 
 (CO).\n
DTSTAMP:20260424T161643Z
DTSTART:20170323T160000Z
DTEND:20170323T180000Z
SEQUENCE:0
TRANSP:OPAQUE
END:VEVENT
END:VCALENDAR