BEGIN:VCALENDAR
VERSION:2.0
PRODID:-//jEvents 2.0 for Joomla//EN
CALSCALE:GREGORIAN
METHOD:PUBLISH
BEGIN:VEVENT
UID:2a5beea522a9ad9d0e21be4731d3cc51
CATEGORIES:DEFAULT
SUMMARY:I lezione "Alla base della didattica digitale"
LOCATION:LICEO EINSTEIN
DESCRIPTION;ENCODING=QUOTED-PRINTABLE:\n\nPrima lezione del corso di Generazione Web "Alla base della didattica d
 igitale" presso il Liceo Scientifico Statale A. Einstein, via A. Einstein 3
 , Milano.\n
DTSTAMP:20260424T150906Z
DTSTART:20170206T140000Z
DTEND:20170207T170000Z
SEQUENCE:0
TRANSP:OPAQUE
END:VEVENT
END:VCALENDAR