BEGIN:VCALENDAR
VERSION:2.0
PRODID:-//jEvents 2.0 for Joomla//EN
CALSCALE:GREGORIAN
METHOD:PUBLISH
BEGIN:VEVENT
UID:196e0ee7d4394b58eb6607d286752791
CATEGORIES:DEFAULT
SUMMARY:II lezione "Alla base della didattica digitale" - LICEO EINSTEIN
LOCATION:LICEO EINSTEIN
DESCRIPTION;ENCODING=QUOTED-PRINTABLE:\n\nSeconda lezione del corso di Generazione Web "Alla base della didattica
  digitale" presso il Liceo Scientifico Statale A. Einstein, via A. Einstein
  3, Milano.\n
DTSTAMP:20260424T151643Z
DTSTART:20170216T140000Z
DTEND:20170216T170000Z
SEQUENCE:0
TRANSP:OPAQUE
END:VEVENT
END:VCALENDAR