BEGIN:VCALENDAR
VERSION:2.0
PRODID:-//jEvents 2.0 for Joomla//EN
CALSCALE:GREGORIAN
METHOD:PUBLISH
BEGIN:VEVENT
UID:d5de305294e526d266e626f347252d29
CATEGORIES:DEFAULT
SUMMARY:IV lezione "Alla base della didattica digitale" - LICEO EINSTEIN
LOCATION:LICEO EINSTEIN
DESCRIPTION;ENCODING=QUOTED-PRINTABLE:\n\nQuarta lezione del corso di Generazione Web "Alla base della didattica 
 digitale" presso il Liceo Scientifico Statale A. Einstein, via A. Einstein 
 3, Milano.\n
DTSTAMP:20260424T144419Z
DTSTART:20170316T140000Z
DTEND:20170316T170000Z
SEQUENCE:0
TRANSP:OPAQUE
END:VEVENT
END:VCALENDAR