BEGIN:VCALENDAR
VERSION:2.0
PRODID:-//jEvents 2.0 for Joomla//EN
CALSCALE:GREGORIAN
METHOD:PUBLISH
BEGIN:VEVENT
UID:c5b3c1790a0170c0ae91bf3779de5961
CATEGORIES:DEFAULT
SUMMARY:V lezione "Alla base della didattica digitale
LOCATION:LICEO EINSTEIN
DESCRIPTION;ENCODING=QUOTED-PRINTABLE:\n\nQuinta e ultima lezione del corso di Generazione Web "Alla base della d
 idattica digitale" presso il Liceo Scientifico Statale A. Einstein, via A. 
 Einstein 3, Milano.\n
DTSTAMP:20260424T161606Z
DTSTART:20170323T020000Z
DTEND:20170323T170000Z
SEQUENCE:0
TRANSP:OPAQUE
END:VEVENT
END:VCALENDAR