BEGIN:VCALENDAR
VERSION:2.0
PRODID:-//jEvents 2.0 for Joomla//EN
CALSCALE:GREGORIAN
METHOD:PUBLISH
BEGIN:VEVENT
UID:380b49658fecc5f2dad2aa7dd6d08f2e
CATEGORIES:DEFAULT
SUMMARY:II lezione "Avanzare nella didattica digitale" - IIS PARETO
LOCATION:I.I.S. PARETO
DESCRIPTION;ENCODING=QUOTED-PRINTABLE:\n\nSeconda lezione del corso di Generazione Web "Avanzare nella didattica 
 digitale" presso l'I.I.S. Pareto, Via Alessandro Litta Modignani 55, Milano
 .\n
DTSTAMP:20260424T150906Z
DTSTART:20170222T133000Z
DTEND:20170222T163000Z
SEQUENCE:0
TRANSP:OPAQUE
END:VEVENT
END:VCALENDAR