BEGIN:VCALENDAR
VERSION:2.0
PRODID:-//jEvents 2.0 for Joomla//EN
CALSCALE:GREGORIAN
METHOD:PUBLISH
BEGIN:VEVENT
UID:cd2b2317181db5f8aeb7acbd8f0eae0f
CATEGORIES:DEFAULT
SUMMARY:IV lezione "Avanzare nella didattica digitale" - Pareto
LOCATION:I.I.S. PARETO
DESCRIPTION;ENCODING=QUOTED-PRINTABLE:\n\nQuarta lezione del corso di Generazione Web "Avanzare nella didattica d
 igitale" presso l'I.I.S. Pareto, Via Alessandro Litta Modignani 55, Milano.
 \n
DTSTAMP:20260424T161606Z
DTSTART:20170328T123000Z
DTEND:20170328T153000Z
SEQUENCE:0
TRANSP:OPAQUE
END:VEVENT
END:VCALENDAR