BEGIN:VCALENDAR
VERSION:2.0
PRODID:-//jEvents 2.0 for Joomla//EN
CALSCALE:GREGORIAN
METHOD:PUBLISH
BEGIN:VEVENT
UID:e8656750a39c2fa4e7fb3367aea171ec
CATEGORIES:DEFAULT
SUMMARY:II lezione "Alla base della didattica digitale" - IIS CREMONA
LOCATION:IIS CREMONA
DESCRIPTION;ENCODING=QUOTED-PRINTABLE:\n\nSeconda lezione del corso di Generazione Web (Rete Cremona) 161869 "All
 a base della didattica digitale" presso l'IIS Cremona, Viale Marche 73, Mil
 ano.\n
DTSTAMP:20260424T152833Z
DTSTART:20170223T133000Z
DTEND:20170223T163000Z
SEQUENCE:0
TRANSP:OPAQUE
END:VEVENT
END:VCALENDAR