BEGIN:VCALENDAR
VERSION:2.0
PRODID:-//jEvents 2.0 for Joomla//EN
CALSCALE:GREGORIAN
METHOD:PUBLISH
BEGIN:VEVENT
UID:978b31c2c8ccf35bf5e7a4513cefa138
CATEGORIES:DEFAULT
SUMMARY:III lezione "Alla base della didattica digitale" - IIS CREMONA
LOCATION:IIS CREMONA
DESCRIPTION;ENCODING=QUOTED-PRINTABLE:\n\nTerza lezione del corso di Generazione Web (Rete Cremona) 161869 "Alla 
 base della didattica digitale" presso l'IIS Cremona, Viale Marche 73, Milan
 o.\n
DTSTAMP:20260424T161642Z
DTSTART:20170315T133000Z
DTEND:20170315T163000Z
SEQUENCE:0
TRANSP:OPAQUE
END:VEVENT
END:VCALENDAR