BEGIN:VCALENDAR
VERSION:2.0
PRODID:-//jEvents 2.0 for Joomla//EN
CALSCALE:GREGORIAN
METHOD:PUBLISH
BEGIN:VEVENT
UID:bfcad483efec9484450cbe3cac04c269
CATEGORIES:DEFAULT
SUMMARY:IV lezione "Alla base della didattica digitale" - IIS CREMONA
LOCATION:IIS CREMONA
DESCRIPTION;ENCODING=QUOTED-PRINTABLE:\n\nQuarta lezione del corso di Generazione Web (Rete Cremona) 161869 "Alla
  base della didattica digitale" presso l'IIS Cremona, Viale Marche 73, Mila
 no.\n
DTSTAMP:20260424T161644Z
DTSTART:20170323T133000Z
DTEND:20170323T163000Z
SEQUENCE:0
TRANSP:OPAQUE
END:VEVENT
END:VCALENDAR