BEGIN:VCALENDAR
VERSION:2.0
PRODID:-//jEvents 2.0 for Joomla//EN
CALSCALE:GREGORIAN
METHOD:PUBLISH
BEGIN:VEVENT
UID:1677633dce8a73d0275769bc68739a5b
CATEGORIES:DEFAULT
SUMMARY:V lezione "Alla base della didattica digitale" - IIS CREMONA
LOCATION:IIS CREMONA
DESCRIPTION;ENCODING=QUOTED-PRINTABLE:\n\nQuinta e ultima lezione del corso di Generazione Web (Rete Cremona) 161
 869 "Alla base della didattica digitale" presso l'IIS Cremona, Viale Marche
  73, Milano.\n
DTSTAMP:20260424T181336Z
DTSTART:20170405T123000Z
DTEND:20170405T153000Z
SEQUENCE:0
TRANSP:OPAQUE
END:VEVENT
END:VCALENDAR