BEGIN:VCALENDAR
VERSION:2.0
PRODID:-//jEvents 2.0 for Joomla//EN
CALSCALE:GREGORIAN
METHOD:PUBLISH
BEGIN:VEVENT
UID:ccd37c65a2d1b8635ff0d8e69d0da76f
CATEGORIES:DEFAULT
SUMMARY:I lezione "Introduzione Capovolta" - ISTITUTO CAVALIERI
LOCATION:ISTITUTO CAVALIERI
DESCRIPTION;ENCODING=QUOTED-PRINTABLE:\n\nPrima lezione del corso di Generazione Web (Rete Cavalieri) 161713 "Int
 roduzione Capovolta" presso l'Istituto Cavalieri in via Olona 14, Milano.\n
DTSTAMP:20260424T160845Z
DTSTART:20170220T140000Z
DTEND:20170220T170000Z
SEQUENCE:0
TRANSP:OPAQUE
END:VEVENT
END:VCALENDAR