BEGIN:VCALENDAR
VERSION:2.0
PRODID:-//jEvents 2.0 for Joomla//EN
CALSCALE:GREGORIAN
METHOD:PUBLISH
BEGIN:VEVENT
UID:059592c7485781e85f2214d1a061a9bb
CATEGORIES:DEFAULT
SUMMARY:III lezione "Introduzione Capovolta" - ISTITUTO CAVALIERI
LOCATION:ISTITUTO CAVALIERI
DESCRIPTION;ENCODING=QUOTED-PRINTABLE:\n\nTerza lezione del corso di Generazione Web (Rete Cavalieri) 161713 "Int
 roduzione Capovolta" presso l'Istituto Cavalieri in via Olona 14, Milano.\n
DTSTAMP:20260424T161606Z
DTSTART:20170323T140000Z
DTEND:20170323T170000Z
SEQUENCE:0
TRANSP:OPAQUE
END:VEVENT
END:VCALENDAR