BEGIN:VCALENDAR
VERSION:2.0
PRODID:-//jEvents 2.0 for Joomla//EN
CALSCALE:GREGORIAN
METHOD:PUBLISH
BEGIN:VEVENT
UID:fe2b205d6a91350fe3c7c537550a6331
CATEGORIES:DEFAULT
SUMMARY:IV lezione "Introduzione Capovolta" - ISTITUTO CAVALIERI
LOCATION:ISTITUTO CAVALIERI
DESCRIPTION;ENCODING=QUOTED-PRINTABLE:\n\nQuarta lezione del corso di Generazione Web (Rete Cavalieri) 161713 "In
 troduzione Capovolta" presso l'Istituto Cavalieri in via Olona 14, Milano.\
 n
DTSTAMP:20260424T181342Z
DTSTART:20170406T130000Z
DTEND:20170406T160000Z
SEQUENCE:0
TRANSP:OPAQUE
END:VEVENT
END:VCALENDAR