BEGIN:VCALENDAR
VERSION:2.0
PRODID:-//jEvents 2.0 for Joomla//EN
CALSCALE:GREGORIAN
METHOD:PUBLISH
BEGIN:VEVENT
UID:31287f4406f135e50d6ef8f52d65f4ce
CATEGORIES:DEFAULT
SUMMARY:I lezione "Avanzare nella didattica digitale" - ISTITUTO MAXWELL
LOCATION:ISTITUTO MAXWELL
DESCRIPTION;ENCODING=QUOTED-PRINTABLE:\n\nPrima lezione del corso di Generazione Web (Rete Cavalieri) 161717 "Ava
 nzare nella didattica digitale" preso l'Istituto Maxwell, via Don Giovanni 
 Calabria 2, Milano.\n
DTSTAMP:20260424T152016Z
DTSTART:20170222T140000Z
DTEND:20170222T170000Z
SEQUENCE:0
TRANSP:OPAQUE
END:VEVENT
END:VCALENDAR