BEGIN:VCALENDAR
VERSION:2.0
PRODID:-//jEvents 2.0 for Joomla//EN
CALSCALE:GREGORIAN
METHOD:PUBLISH
BEGIN:VEVENT
UID:8838d987edd44c3d8848acd920f2b038
CATEGORIES:DEFAULT
SUMMARY:III lezione "Avanzare nella didattica digitale" - ISTITUTO MAXWELL
LOCATION:ISTITUTO MAXWELL
DESCRIPTION;ENCODING=QUOTED-PRINTABLE:\n\nTerza lezione del corso di Generazione Web (Rete Cavalieri) 161717 "Ava
 nzare nella didattica digitale" preso l'Istituto Maxwell, via Don Giovanni 
 Calabria 2, Milano.\n
DTSTAMP:20260424T161643Z
DTSTART:20170323T140000Z
DTEND:20170323T170000Z
SEQUENCE:0
TRANSP:OPAQUE
END:VEVENT
END:VCALENDAR