BEGIN:VCALENDAR
VERSION:2.0
PRODID:-//jEvents 2.0 for Joomla//EN
CALSCALE:GREGORIAN
METHOD:PUBLISH
BEGIN:VEVENT
UID:954f42df2ada6d344a04f9a74df83342
CATEGORIES:DEFAULT
SUMMARY:IV lezione "Avanzare nella didattica digitale" - ISTITUTO MAXWELL
LOCATION:ISTITUTO MAXWELL
DESCRIPTION;ENCODING=QUOTED-PRINTABLE:\n\nQuarta lezione del corso di Generazione Web (Rete Cavalieri) 161717 "Av
 anzare nella didattica digitale" preso l'Istituto Maxwell, via Don Giovanni
  Calabria 2, Milano.\n
DTSTAMP:20260424T161658Z
DTSTART:20170330T130000Z
DTEND:20170330T160000Z
SEQUENCE:0
TRANSP:OPAQUE
END:VEVENT
END:VCALENDAR