BEGIN:VCALENDAR
VERSION:2.0
PRODID:-//jEvents 2.0 for Joomla//EN
CALSCALE:GREGORIAN
METHOD:PUBLISH
BEGIN:VEVENT
UID:247d439e4507119fb45e7b168124b0fe
CATEGORIES:DEFAULT
SUMMARY:V lezione "Avanzare nella didattica digitale" - ISTITUTO MAXWELL
LOCATION:ISTITUTO MAXWELL
DESCRIPTION;ENCODING=QUOTED-PRINTABLE:\n\nQuinta e ultima lezione del corso di Generazione Web (Rete Cavalieri) 1
 61717 "Avanzare nella didattica digitale" preso l'Istituto Maxwell, via Don
  Giovanni Calabria 2, Milano.\n
DTSTAMP:20260424T181335Z
DTSTART:20170406T130000Z
DTEND:20170406T160000Z
SEQUENCE:0
TRANSP:OPAQUE
END:VEVENT
END:VCALENDAR