BEGIN:VCALENDAR
VERSION:2.0
PRODID:-//jEvents 2.0 for Joomla//EN
CALSCALE:GREGORIAN
METHOD:PUBLISH
BEGIN:VEVENT
UID:c79a55eecd15c55b0bd3ca8bee27e622
CATEGORIES:DEFAULT
SUMMARY:V lezione "Flipped Classroom" - ISTITUTO CAVALIERI
LOCATION:ISTITUTO CAVALIERI
DESCRIPTION;ENCODING=QUOTED-PRINTABLE:\n\nV e ultima lezione del corso di Generazione Web (Rete Cavalieri) "16171
 5 - Flipped Classroom" che si terrà presso l'Istituto Cavalieri, via Olona 
 14, Milano dalle 15 alle 18.\n
DTSTAMP:20260424T193021Z
DTSTART:20170519T130000Z
DTEND:20170519T160000Z
SEQUENCE:0
TRANSP:OPAQUE
END:VEVENT
END:VCALENDAR