BEGIN:VCALENDAR
VERSION:2.0
PRODID:-//jEvents 2.0 for Joomla//EN
CALSCALE:GREGORIAN
METHOD:PUBLISH
BEGIN:VEVENT
UID:f0a1cef656fbc90e3d44bf20654fb308
CATEGORIES:DEFAULT
SUMMARY:Seminario "Per fare un bambino ci vuole un villaggio" - I incontro - LECCO
LOCATION:LECCO - CINETEATRO PALLADIUM
DESCRIPTION;ENCODING=QUOTED-PRINTABLE:\n\n29 MARZO 2017 |\n\n\nore 20.45 Cineteatro Palladium | Via Fiumicella, 1
 2   \n\n\nACCAREZZARE IL CONFLITTO: ADULTI E BAMBINI NELLE SITUAZIONI DI DI
 FFICOLTÀ E DI SEPARAZIONE  \n\n\ncon Virginia Scaccabarozzi e Ezio Aceti | 
 Psicologi\n\n\nPatrizia Guglielmana | Avvocato\n
DTSTAMP:20260424T161643Z
DTSTART:20170329T184500Z
SEQUENCE:0
TRANSP:OPAQUE
END:VEVENT
END:VCALENDAR