BEGIN:VCALENDAR
VERSION:2.0
PRODID:-//jEvents 2.0 for Joomla//EN
CALSCALE:GREGORIAN
METHOD:PUBLISH
BEGIN:VEVENT
UID:988c7e07bf55f2e717e5ff72e9957fae
CATEGORIES:DEFAULT
SUMMARY:Seminario "Per fare un bambino ci vuole un villaggio" - II incontro - LECCO
LOCATION:LECCO - PALAZZO DEL COMMERCIO
DESCRIPTION;ENCODING=QUOTED-PRINTABLE:\n\n7 APRILE 2017 ore 20.45\n\n\nSala conferenze Palazzo del Commercio  (ex
  Palazzo Falck) | P.za Garibaldi n.4 \n\n\nADULTI E MINORI DI FRONTE ALLE N
 UOVE DIPENDENZE: LUDOPATIE, INTERNET …  \n\n\ncon Manuela Ponti | Psicologa
  \n\n\nIn collaborazione con il C.I.F. Centro Italiano  Femminile Provincia
 le Lecco\n
DTSTAMP:20260424T181336Z
DTSTART:20170407T184500Z
SEQUENCE:0
TRANSP:OPAQUE
END:VEVENT
END:VCALENDAR