BEGIN:VCALENDAR
VERSION:2.0
PRODID:-//jEvents 2.0 for Joomla//EN
CALSCALE:GREGORIAN
METHOD:PUBLISH
BEGIN:VEVENT
UID:baac71dc6ddd7757671f585eb7911e8f
CATEGORIES:DEFAULT
SUMMARY:Seminario "Per fare un bambino ci vuole un villaggio" - III incontro - LECCO
LOCATION:LECCO - PALAZZO DEL COMMERCIO
DESCRIPTION;ENCODING=QUOTED-PRINTABLE:\n\n27 APRILE 2017 ore 20.45\n\n\nSala conferenze Palazzo del Commercio  (e
 x Palazzo Falck) | P.za Garibaldi n.4 \n\n\nL'ABC DELL'EDUCAZIONE AFFETTIVA
  NEI BAMBINI/E DA 0 AI 11 ANNI \n\n\ncon: Don Giuseppe Belotti | Psicologo\
 n
DTSTAMP:20260424T181336Z
DTSTART:20170427T184500Z
SEQUENCE:0
TRANSP:OPAQUE
END:VEVENT
END:VCALENDAR