BEGIN:VCALENDAR
VERSION:2.0
PRODID:-//jEvents 2.0 for Joomla//EN
CALSCALE:GREGORIAN
METHOD:PUBLISH
BEGIN:VEVENT
UID:dc092d957c1f2afeeec02503a9cd748f
CATEGORIES:DEFAULT
SUMMARY:Seminario "Per fare un bambino ci vuole un villaggio" - IV e ultimo incontro - LECCO
LOCATION:LECCO - SALA CONFARTIGIANATO
DESCRIPTION;ENCODING=QUOTED-PRINTABLE:\n\n23 MAGGIO 2017 ore 20.45 \n\n\nSala Confartigianato | Via Galileo Galil
 ei, 1\n\n\nGESTIRE LE EMOZIONI PER UNO SVILUPPO ARMONIOSO DELLA PERSONA\n\n
 \ncon: Ezio Aceti | Psicologo \n
DTSTAMP:20260424T193022Z
DTSTART:20170523T184500Z
SEQUENCE:0
TRANSP:OPAQUE
END:VEVENT
END:VCALENDAR