BEGIN:VCALENDAR
VERSION:2.0
PRODID:-//jEvents 2.0 for Joomla//EN
CALSCALE:GREGORIAN
METHOD:PUBLISH
BEGIN:VEVENT
UID:4fc68a15878ee05f9d8e4da07f43b786
CATEGORIES:DEFAULT
SUMMARY:I Lezione "ABC... iPad" - IIS MONTALE 
LOCATION:IIS MONTALE - CINISELLO
DESCRIPTION;ENCODING=QUOTED-PRINTABLE:\n\nI lezione corso di Generazione Web "161941" ABC... iPad" che si terrà p
 reso l'IIS Eugenio Montale di Cinisello Balsamo, via Gorki 100.\n\n\nLa lez
 ione si tiene dalle 15.30 alle 18.30.\n
DTSTAMP:20260424T161644Z
DTSTART:20170315T143000Z
DTEND:20170315T173000Z
SEQUENCE:0
TRANSP:OPAQUE
END:VEVENT
END:VCALENDAR