BEGIN:VCALENDAR
VERSION:2.0
PRODID:-//jEvents 2.0 for Joomla//EN
CALSCALE:GREGORIAN
METHOD:PUBLISH
BEGIN:VEVENT
UID:6af286555fdd33f11e77537afd1c5f94
CATEGORIES:DEFAULT
SUMMARY:IV lezione "ABC... iPad" - IIS MONTALE
LOCATION:IIS MONTALE - CINISELLO
DESCRIPTION;ENCODING=QUOTED-PRINTABLE:\n\nIV lezione corso di Generazione Web "161941" ABC... iPad" che si terrà 
 preso l'IIS Eugenio Montale di Cinisello Balsamo, via Gorki 100.\n\n\nLa le
 zione si tiene dalle 15.30 alle 18.30.\n
DTSTAMP:20260424T181336Z
DTSTART:20170420T133000Z
DTEND:20170420T163000Z
SEQUENCE:0
TRANSP:OPAQUE
END:VEVENT
END:VCALENDAR