BEGIN:VCALENDAR
VERSION:2.0
PRODID:-//jEvents 2.0 for Joomla//EN
CALSCALE:GREGORIAN
METHOD:PUBLISH
BEGIN:VEVENT
UID:2175eb251ed52dcc7b1a1d7d1547cded
CATEGORIES:DEFAULT
SUMMARY:PRIMA LEZIONE AVANZARE NELLA DIDATTICA DIGITALE - IC CREMONA
DESCRIPTION;ENCODING=QUOTED-PRINTABLE:\n\nLA PRIMA LEZIONE DEL CORSO DI GENERAZIONE WEB 161872 AVANZARE NELLA DID
 ATTICA DIGITALE SI TERRA' PRESSO L'ISTITUTO CREMONA, VIALE MARCHE 73, MILAN
 O.\n\n\n \n
DTSTAMP:20260424T181342Z
DTSTART:20170406T130000Z
DTEND:20170406T160000Z
SEQUENCE:0
TRANSP:OPAQUE
END:VEVENT
END:VCALENDAR