BEGIN:VCALENDAR
VERSION:2.0
PRODID:-//jEvents 2.0 for Joomla//EN
CALSCALE:GREGORIAN
METHOD:PUBLISH
BEGIN:VEVENT
UID:32ade1eb2032f7e1fa9ebe3054a3c167
CATEGORIES:DEFAULT
SUMMARY:TERZA LEZIONE AVANZARE NELLA DIDATTICA DIGITALE-IST. CREMONA
DESCRIPTION;ENCODING=QUOTED-PRINTABLE:\n\nLA TERZA LEZIONE DEL CORSO DI GENERAZIONE WEB 161872 AVANZARE NELLA DID
 ATTICA DIGITALE SI TERRA' PRESSO L'ISTITUTO CREMONA, VIALE MARCHE 73, MILAN
 O.\n
DTSTAMP:20260424T181342Z
DTSTART:20170420T130000Z
DTEND:20170420T160000Z
SEQUENCE:0
TRANSP:OPAQUE
END:VEVENT
END:VCALENDAR