BEGIN:VCALENDAR
VERSION:2.0
PRODID:-//jEvents 2.0 for Joomla//EN
CALSCALE:GREGORIAN
METHOD:PUBLISH
BEGIN:VEVENT
UID:51231472a996a243cbf8fe57a1a902d8
CATEGORIES:DEFAULT
SUMMARY:SESTA LEZIONE AVANZARE NELLA DIDATTICA DIGITALE- IST. CREMONA
DESCRIPTION;ENCODING=QUOTED-PRINTABLE:\n\nLA SESTA LEZIONE DEL CORSO DI GENERAZIONE WEB 161872 AVANZARE NELLA DID
 ATTICA DIGITALE SI TERRA' PRESSO L'ISTITUTO CREMONA, VIALE MARCHE 73, MILAN
 O.\n
DTSTAMP:20260424T193021Z
DTSTART:20170517T130000Z
DTEND:20170517T160000Z
SEQUENCE:0
TRANSP:OPAQUE
END:VEVENT
END:VCALENDAR