BEGIN:VCALENDAR
VERSION:2.0
PRODID:-//jEvents 2.0 for Joomla//EN
CALSCALE:GREGORIAN
METHOD:PUBLISH
BEGIN:VEVENT
UID:724ca12db4e6d5e622e1a6441b125fa9
CATEGORIES:DEFAULT
SUMMARY:CONOSCERE E AGIRE NEL MONDO CONTEMPORANEO - III LEZIONE
LOCATION:ISTITUTO CAVALIERI - Via Olona 14, Milano
DESCRIPTION;ENCODING=QUOTED-PRINTABLE:\n\nHOMO TECNOLOGICUS\n\n\nOltre la specie? le manipolazioni genetiche\n\n\
 nRelatore:\n\n\nCarlo Soave già professore di fisiologia vegetale  - Univer
 sità degli Studi di Milano\n\n\nAbitare la tecnologia \n\n\nRelatore:\n\n\n
 Francesco Botturi , professore ordinario di filosofia morale - Università C
 attolica di Milan\n\n\n \n\n\nCoordina : Mario Gargantini, giornalista scie
 ntifico e direttore di Emmeciquadro\n
DTSTAMP:20260424T205549Z
DTSTART:20171110T143000Z
DTEND:20171110T170000Z
SEQUENCE:0
TRANSP:OPAQUE
END:VEVENT
END:VCALENDAR