BEGIN:VCALENDAR
VERSION:2.0
PRODID:-//jEvents 2.0 for Joomla//EN
CALSCALE:GREGORIAN
METHOD:PUBLISH
BEGIN:VEVENT
UID:0f8b067f49954f304553ea7831698d47
CATEGORIES:DEFAULT
SUMMARY:CONOSCERE E AGIRE NEL MONDO CONTEMPORANEO - IV LEZIONE
DESCRIPTION;ENCODING=QUOTED-PRINTABLE:\n\nLA POLIS: IL MAGISTRATO E IL POLITICO DESIDERI E DIRITTI: IL RUOLO DEL 
 MAGISTRATO \n\n\nRelatore:\n\n\nAurelio Barazzetta presidente dei GIP Tribu
 nale di Milano\n\n\nFARE LE LEGGI: TRA POLITICA E DIRITTO \n\n\nRelatore:\n
 \n\nLorenzo Ornaghi politologo presidente ASERI Alta Scuola di Economia e R
 elazioni Internazionali\n\n\nCoordina Gianni Bianchi dirigente scolastico L
 iceo Pascal, Busto Arsizio\n
DTSTAMP:20260424T205550Z
DTSTART:20171114T143000Z
DTEND:20171114T170000Z
SEQUENCE:0
TRANSP:OPAQUE
END:VEVENT
END:VCALENDAR