BEGIN:VCALENDAR
VERSION:2.0
PRODID:-//jEvents 2.0 for Joomla//EN
CALSCALE:GREGORIAN
METHOD:PUBLISH
BEGIN:VEVENT
UID:c0ef7986b3218c0477c6e56a244a99d4
CATEGORIES:DEFAULT
SUMMARY:CONOSCERE E AGIRE NEL MONDO CONTEMPORANEO - V LEZIONE
LOCATION:ISTITUTO CAVALIERI - Via Olona 14, Milano
DESCRIPTION;ENCODING=QUOTED-PRINTABLE:\n\nIL FUTURO GLOBALE: RISCHI E OPPORTUNITÀ LE DIFFERENZE COME VANTAGGIO CO
 MPETITIVO \n\n\nRelatore:\n\n\nPaolo Preti direttore Master Piccole Imprese
  SDA professore associato di organizzazione aziendale Università della Vall
 e D’Aosta\n\n\nLE ISTITUZIONI ECONOMICHE INTERNAZIONALI: QUALE POTERE? \n\n
 \nRelatore:\n\n\nSimona Beretta professore ordinario di economia internazio
 nale, Dip. Economia Internazionale, delle istituzioni e dello sviluppo, Uni
 versità Cattolica del Sacro Cuore, Milano\n\n\nCoordina Flavio Merlo docent
 e di economia e diritto dirigente Istituto Barbara Melzi, Legnano\n
DTSTAMP:20260424T205548Z
DTSTART:20171122T143000Z
DTEND:20171122T170000Z
SEQUENCE:0
TRANSP:OPAQUE
END:VEVENT
END:VCALENDAR