BEGIN:VCALENDAR
VERSION:2.0
PRODID:-//jEvents 2.0 for Joomla//EN
CALSCALE:GREGORIAN
METHOD:PUBLISH
BEGIN:VEVENT
UID:adca2f15a03847372e791f111c670376
CATEGORIES:DEFAULT
SUMMARY:CONOSCERE E AGIRE NEL MONDO CONTEMPORANEO - VI LEZIONE
LOCATION:ISTITUTO CAVALIERI - Via Olona 14, Milano
DESCRIPTION;ENCODING=QUOTED-PRINTABLE:\n\nCOMUNICARE OGGI: I LINGUAGGI CONTEMPORANEI \n\n\nCINEMA - Relatore:\n\n
 \nArmando Fumagalli professore ordinario di Teoria dei linguaggi e di Semio
 tica Università Cattolica del Sacro Cuore, Milano Direttore del Master Univ
 ersitario di I livello in Scrittura e produzione per la fiction e il cinema
 \n\n\nMUSICA - Relatore:\n\n\nWalter Muto musicista\n\n\nCoordina Federico 
 Pellizzi docente di storia e filosofia Liceo Donatelli, Milano\n
DTSTAMP:20260424T221404Z
DTSTART:20171129T143000Z
DTEND:20171129T170000Z
SEQUENCE:0
TRANSP:OPAQUE
END:VEVENT
END:VCALENDAR