BEGIN:VCALENDAR
VERSION:2.0
PRODID:-//jEvents 2.0 for Joomla//EN
CALSCALE:GREGORIAN
METHOD:PUBLISH
BEGIN:VEVENT
UID:8df4635f6c245adefc52edcd16f103c4
CATEGORIES:DEFAULT
SUMMARY:CONVENTION SCUOLA DIESSE
LOCATION:Savoia Hotel Regency - Bologna
DESCRIPTION;ENCODING=QUOTED-PRINTABLE:\n\nIL TEMPO DELLA PERSONA\nDa una storia il cambiamento\nBologna, 4-5 nove
 mbre 2017\n\nprogramma - pieghevole - manifesto\n\nIscrizioni: da domenica 
 20 agosto a lunedì 23 ottobre 2017\n
DTSTAMP:20260424T225547Z
DTSTART;VALUE=DATE:20171104
DTEND;VALUE=DATE:20171106
SEQUENCE:0
TRANSP:OPAQUE
END:VEVENT
END:VCALENDAR