BEGIN:VCALENDAR
VERSION:2.0
PRODID:-//jEvents 2.0 for Joomla//EN
CALSCALE:GREGORIAN
METHOD:PUBLISH
BEGIN:VEVENT
UID:4311046f459dd03ede006dffc1af0875
CATEGORIES:DEFAULT
SUMMARY:PROGETTARE LA DIDATTICA 3.0 - III LEZIONE
LOCATION:COLLEGIO S. ANTONIO - BUSNAGO
DESCRIPTION;ENCODING=QUOTED-PRINTABLE:\n\nTerza lezione del corso tenuta dalla prof.ssa Manuela Fiore.\nArgomenti
 :\n\n\nGoogle Drive e apps:\n\n\n_office\n\n\n_questionari\n
DTSTAMP:20260424T234502Z
DTSTART:20170925T150000Z
DTEND:20170925T170000Z
SEQUENCE:0
TRANSP:OPAQUE
END:VEVENT
END:VCALENDAR